BEGIN:VCALENDAR
VERSION:2.0
PRODID:icalendar-ruby
CALSCALE:GREGORIAN
METHOD:PUBLISH
BEGIN:VEVENT
DTSTAMP:20260423T232824Z
UID:107-308636@fmcapplecreek.com
DTSTART:20260513T230000Z
DTEND:20260514T010000Z
CLASS:PUBLIC
CREATED:20260416T162725
DESCRIPTION:
LAST-MODIFIED:20260416T162725
LOCATION:
SUMMARY:Men's Ministry
URL;VALUE=URI:https://www.fmcapplecreek.com/events/mens-ministry/2026-05-13
ATTACH;FILENAME=manup-logo.png;FMTTYPE=image/png:https://dq5pwpg1q8ru0.clou
 dfront.net/2026/04/16/20/27/25/2da1b6a9-abcc-4789-bf88-552657ff50c1/manup-
 logo.png
END:VEVENT
END:VCALENDAR
